Package: IONiseR Version: 2.35.0 Command: /home/biocbuild/bbs-3.23-bioc/R/bin/R CMD INSTALL IONiseR StartedAt: 2025-11-20 15:51:23 -0500 (Thu, 20 Nov 2025) EndedAt: 2025-11-20 15:51:58 -0500 (Thu, 20 Nov 2025) EllapsedTime: 35.8 seconds RetCode: 0 Status: OK