Package: IONiseR Version: 2.35.0 Command: /home/biocbuild/bbs-3.23-bioc/R/bin/R CMD build --keep-empty-dirs --no-resave-data IONiseR StartedAt: 2025-11-20 18:14:27 -0500 (Thu, 20 Nov 2025) EndedAt: 2025-11-20 18:16:09 -0500 (Thu, 20 Nov 2025) EllapsedTime: 102.1 seconds RetCode: 0 Status: OK PackageFile: IONiseR_2.35.0.tar.gz PackageFileSize: 4.583 MiB