Package: IONiseR Version: 2.33.0 Command: /Library/Frameworks/R.framework/Resources/bin/R CMD INSTALL IONiseR StartedAt: 2025-10-20 15:42:29 -0400 (Mon, 20 Oct 2025) EndedAt: 2025-10-20 15:43:17 -0400 (Mon, 20 Oct 2025) EllapsedTime: 48.2 seconds RetCode: 0 Status: OK