Package: IONiseR Version: 2.33.0 Command: /Library/Frameworks/R.framework/Resources/bin/R CMD build --keep-empty-dirs --no-resave-data IONiseR StartedAt: 2025-10-19 17:44:51 -0400 (Sun, 19 Oct 2025) EndedAt: 2025-10-19 17:47:48 -0400 (Sun, 19 Oct 2025) EllapsedTime: 177.3 seconds RetCode: 0 Status: OK PackageFile: IONiseR_2.33.0.tar.gz PackageFileSize: 4.183 MiB