Package: IONiseR Version: 2.33.0 Command: /Library/Frameworks/R.framework/Resources/bin/R CMD build --keep-empty-dirs --no-resave-data IONiseR StartedAt: 2025-10-09 16:46:19 -0400 (Thu, 09 Oct 2025) EndedAt: 2025-10-09 16:47:16 -0400 (Thu, 09 Oct 2025) EllapsedTime: 56.6 seconds RetCode: 0 Status: OK PackageFile: IONiseR_2.33.0.tar.gz PackageFileSize: 4.186 MiB