Package: IONiseR Version: 2.33.0 Command: rm -rf IONiseR.buildbin-libdir && mkdir IONiseR.buildbin-libdir && /Users/biocbuild/BBS/utils/build-universal.sh IONiseR_2.33.0.tar.gz /Library/Frameworks/R.framework/Resources/bin/R IONiseR.buildbin-libdir StartedAt: 2025-10-10 22:45:06 -0400 (Fri, 10 Oct 2025) EndedAt: 2025-10-10 22:45:22 -0400 (Fri, 10 Oct 2025) EllapsedTime: 16.3 seconds RetCode: 0 Status: OK PackageFile: IONiseR_2.33.0.tgz PackageFileSize: 4.311 MiB