Package: INTACT Version: 1.9.0 Command: /home/biocbuild/bbs-3.22-bioc/R/bin/R CMD check --install=check:INTACT.install-out.txt --library=/home/biocbuild/bbs-3.22-bioc/R/site-library --timings INTACT_1.9.0.tar.gz StartedAt: 2025-10-21 00:57:35 -0400 (Tue, 21 Oct 2025) EndedAt: 2025-10-21 00:58:17 -0400 (Tue, 21 Oct 2025) EllapsedTime: 42.0 seconds RetCode: 0 Status: OK CheckDir: INTACT.Rcheck Warnings: 0