Package: INTACT Version: 1.11.0 Command: /home/biocbuild/bbs-3.23-bioc/R/bin/R CMD INSTALL INTACT StartedAt: 2025-11-03 15:08:19 -0500 (Mon, 03 Nov 2025) EndedAt: 2025-11-03 15:08:24 -0500 (Mon, 03 Nov 2025) EllapsedTime: 4.7 seconds RetCode: 0 Status: OK