Package: INTACT Version: 1.11.0 Command: /home/biocbuild/bbs-3.23-bioc/R/bin/R CMD build --keep-empty-dirs --no-resave-data INTACT StartedAt: 2025-11-03 18:06:45 -0500 (Mon, 03 Nov 2025) EndedAt: 2025-11-03 18:06:57 -0500 (Mon, 03 Nov 2025) EllapsedTime: 12.0 seconds RetCode: 0 Status: OK PackageFile: INTACT_1.11.0.tar.gz PackageFileSize: 2.506 MiB