Package: INTACT Version: 1.9.0 Command: /Library/Frameworks/R.framework/Resources/bin/R CMD INSTALL INTACT StartedAt: 2025-10-01 15:10:55 -0400 (Wed, 01 Oct 2025) EndedAt: 2025-10-01 15:11:16 -0400 (Wed, 01 Oct 2025) EllapsedTime: 20.9 seconds RetCode: 0 Status: OK