Package: INSPEcT Version: 1.41.0 Command: /home/biocbuild/bbs-3.23-bioc/R/bin/R CMD build --keep-empty-dirs --no-resave-data INSPEcT StartedAt: 2025-11-05 18:15:06 -0500 (Wed, 05 Nov 2025) EndedAt: 2025-11-05 18:22:14 -0500 (Wed, 05 Nov 2025) EllapsedTime: 428.4 seconds RetCode: 0 Status: OK PackageFile: INSPEcT_1.41.0.tar.gz PackageFileSize: 7.747 MiB