Package: INSPEcT Version: 1.39.1 Command: /Library/Frameworks/R.framework/Resources/bin/R CMD INSTALL INSPEcT StartedAt: 2025-09-29 15:37:20 -0400 (Mon, 29 Sep 2025) EndedAt: 2025-09-29 15:38:45 -0400 (Mon, 29 Sep 2025) EllapsedTime: 85.1 seconds RetCode: 0 Status: OK