Package: INSPEcT Version: 1.39.1 Command: /Library/Frameworks/R.framework/Resources/bin/R CMD build --keep-empty-dirs --no-resave-data INSPEcT StartedAt: 2025-09-29 17:24:47 -0400 (Mon, 29 Sep 2025) EndedAt: 2025-09-29 17:33:49 -0400 (Mon, 29 Sep 2025) EllapsedTime: 541.7 seconds RetCode: 0 Status: OK PackageFile: INSPEcT_1.39.1.tar.gz PackageFileSize: 7.814 MiB