Package: INSPEcT Version: 1.39.1 Command: rm -rf INSPEcT.buildbin-libdir && mkdir INSPEcT.buildbin-libdir && /Users/biocbuild/BBS/utils/build-universal.sh INSPEcT_1.39.1.tar.gz /Library/Frameworks/R.framework/Resources/bin/R INSPEcT.buildbin-libdir StartedAt: 2025-10-01 01:48:07 -0400 (Wed, 01 Oct 2025) EndedAt: 2025-10-01 01:49:42 -0400 (Wed, 01 Oct 2025) EllapsedTime: 95.1 seconds RetCode: 0 Status: OK PackageFile: INSPEcT_1.39.1.tgz PackageFileSize: 8.727 MiB