Package: INSPEcT Version: 1.39.1 Maintainer: Stefano de Pretis MaintainerEmail: ste.depo at gmail.com git_url: https://git.bioconductor.org/packages/INSPEcT git_branch: devel git_last_commit: 9163233 git_last_commit_date: 2025-07-22 21:29:21 -0400 (Tue, 22 Jul 2025)