Package: INPower Version: 1.45.0 Command: /home/biocbuild/bbs-3.22-bioc/R/bin/R CMD check --install=check:INPower.install-out.txt --library=/home/biocbuild/bbs-3.22-bioc/R/site-library --timings INPower_1.45.0.tar.gz StartedAt: 2025-10-22 01:02:04 -0400 (Wed, 22 Oct 2025) EndedAt: 2025-10-22 01:02:22 -0400 (Wed, 22 Oct 2025) EllapsedTime: 18.0 seconds RetCode: 0 Status: OK CheckDir: INPower.Rcheck Warnings: 0