Package: INPower Version: 1.47.0 Command: /home/biocbuild/bbs-3.23-bioc/R/bin/R CMD INSTALL INPower StartedAt: 2025-10-31 15:11:21 -0400 (Fri, 31 Oct 2025) EndedAt: 2025-10-31 15:11:30 -0400 (Fri, 31 Oct 2025) EllapsedTime: 9.4 seconds RetCode: 0 Status: OK