Package: INPower Version: 1.47.0 Command: /home/biocbuild/bbs-3.23-bioc/R/bin/R CMD build --keep-empty-dirs --no-resave-data INPower StartedAt: 2025-11-02 18:10:26 -0500 (Sun, 02 Nov 2025) EndedAt: 2025-11-02 18:10:31 -0500 (Sun, 02 Nov 2025) EllapsedTime: 5.0 seconds RetCode: 0 Status: OK PackageFile: INPower_1.47.0.tar.gz PackageFileSize: 147.1 KiB