Package: INPower Version: 1.45.0 Command: /Library/Frameworks/R.framework/Resources/bin/R CMD INSTALL INPower StartedAt: 2025-10-05 15:06:02 -0400 (Sun, 05 Oct 2025) EndedAt: 2025-10-05 15:06:43 -0400 (Sun, 05 Oct 2025) EllapsedTime: 41.0 seconds RetCode: 0 Status: OK