Package: INPower Version: 1.45.0 Command: /Library/Frameworks/R.framework/Resources/bin/R CMD build --keep-empty-dirs --no-resave-data INPower StartedAt: 2025-10-05 17:29:49 -0400 (Sun, 05 Oct 2025) EndedAt: 2025-10-05 17:30:04 -0400 (Sun, 05 Oct 2025) EllapsedTime: 14.8 seconds RetCode: 0 Status: OK PackageFile: INPower_1.45.0.tar.gz PackageFileSize: 146.6 KiB