Package: INDEED Version: 2.25.0 Command: /home/biocbuild/bbs-3.23-bioc/R/bin/R CMD INSTALL INDEED StartedAt: 2025-11-20 15:10:57 -0500 (Thu, 20 Nov 2025) EndedAt: 2025-11-20 15:11:09 -0500 (Thu, 20 Nov 2025) EllapsedTime: 11.5 seconds RetCode: 0 Status: OK