Package: INDEED Version: 2.25.0 Command: /home/biocbuild/bbs-3.23-bioc/R/bin/R CMD build --keep-empty-dirs --no-resave-data INDEED StartedAt: 2025-11-20 18:12:34 -0500 (Thu, 20 Nov 2025) EndedAt: 2025-11-20 18:12:41 -0500 (Thu, 20 Nov 2025) EllapsedTime: 7.0 seconds RetCode: 0 Status: OK PackageFile: INDEED_2.25.0.tar.gz PackageFileSize: 1.857 MiB