Package: INDEED Version: 2.23.0 Command: /Library/Frameworks/R.framework/Resources/bin/R CMD INSTALL INDEED StartedAt: 2025-10-24 15:09:08 -0400 (Fri, 24 Oct 2025) EndedAt: 2025-10-24 15:09:11 -0400 (Fri, 24 Oct 2025) EllapsedTime: 2.2 seconds RetCode: 0 Status: OK