Package: INDEED Version: 2.23.0 Command: /Library/Frameworks/R.framework/Resources/bin/R CMD build --keep-empty-dirs --no-resave-data INDEED StartedAt: 2025-10-24 16:47:43 -0400 (Fri, 24 Oct 2025) EndedAt: 2025-10-24 16:47:46 -0400 (Fri, 24 Oct 2025) EllapsedTime: 3.0 seconds RetCode: 0 Status: OK PackageFile: INDEED_2.23.0.tar.gz PackageFileSize: 1.857 MiB