Package: INDEED Version: 2.23.0 Command: rm -rf INDEED.buildbin-libdir && mkdir INDEED.buildbin-libdir && /Users/biocbuild/BBS/utils/build-universal.sh INDEED_2.23.0.tar.gz /Library/Frameworks/R.framework/Resources/bin/R INDEED.buildbin-libdir StartedAt: 2025-10-24 23:06:43 -0400 (Fri, 24 Oct 2025) EndedAt: 2025-10-24 23:06:46 -0400 (Fri, 24 Oct 2025) EllapsedTime: 3.1 seconds RetCode: 0 Status: OK PackageFile: INDEED_2.23.0.tgz PackageFileSize: 781.7 KiB