Package: IMPCdata Version: 1.47.0 Command: /home/biocbuild/bbs-3.23-bioc/R/bin/R CMD INSTALL IMPCdata StartedAt: 2025-11-07 15:04:01 -0500 (Fri, 07 Nov 2025) EndedAt: 2025-11-07 15:04:14 -0500 (Fri, 07 Nov 2025) EllapsedTime: 13.1 seconds RetCode: 0 Status: OK