Package: IMPCdata Version: 1.47.0 Command: /home/biocbuild/bbs-3.23-bioc/R/bin/R CMD build --keep-empty-dirs --no-resave-data IMPCdata StartedAt: 2025-11-07 18:09:01 -0500 (Fri, 07 Nov 2025) EndedAt: 2025-11-07 18:09:55 -0500 (Fri, 07 Nov 2025) EllapsedTime: 54.1 seconds RetCode: 0 Status: OK PackageFile: IMPCdata_1.47.0.tar.gz PackageFileSize: 107.4 KiB