Package: IMPCdata Version: 1.45.0 Command: rm -rf IMPCdata.buildbin-libdir && mkdir IMPCdata.buildbin-libdir && /Users/biocbuild/BBS/utils/build-universal.sh IMPCdata_1.45.0.tar.gz /Library/Frameworks/R.framework/Resources/bin/R IMPCdata.buildbin-libdir StartedAt: 2025-10-09 02:37:20 -0400 (Thu, 09 Oct 2025) EndedAt: 2025-10-09 02:37:27 -0400 (Thu, 09 Oct 2025) EllapsedTime: 7.0 seconds RetCode: 0 Status: OK PackageFile: IMPCdata_1.45.0.tgz PackageFileSize: 157.3 KiB