Package: IMMAN Version: 1.29.0 Command: /Library/Frameworks/R.framework/Resources/bin/R CMD INSTALL IMMAN StartedAt: 2025-10-16 16:12:03 -0400 (Thu, 16 Oct 2025) EndedAt: 2025-10-16 16:12:21 -0400 (Thu, 16 Oct 2025) EllapsedTime: 18.4 seconds RetCode: 0 Status: OK