Package: IMMAN Version: 1.29.0 Command: /Library/Frameworks/R.framework/Resources/bin/R CMD build --keep-empty-dirs --no-resave-data IMMAN StartedAt: 2025-10-16 18:07:47 -0400 (Thu, 16 Oct 2025) EndedAt: 2025-10-16 18:11:46 -0400 (Thu, 16 Oct 2025) EllapsedTime: 238.8 seconds RetCode: 0 Status: OK PackageFile: IMMAN_1.29.0.tar.gz PackageFileSize: 45.04 KiB