Package: IMMAN Version: 1.29.0 Command: rm -rf IMMAN.buildbin-libdir && mkdir IMMAN.buildbin-libdir && /Users/biocbuild/BBS/utils/build-universal.sh IMMAN_1.29.0.tar.gz /Library/Frameworks/R.framework/Resources/bin/R IMMAN.buildbin-libdir StartedAt: 2025-10-16 02:58:38 -0400 (Thu, 16 Oct 2025) EndedAt: 2025-10-16 02:59:00 -0400 (Thu, 16 Oct 2025) EllapsedTime: 22.1 seconds RetCode: 0 Status: OK PackageFile: IMMAN_1.29.0.tgz PackageFileSize: 79.06 KiB