Package: IMMAN Version: 1.29.0 Command: /Library/Frameworks/R.framework/Resources/bin/R CMD INSTALL IMMAN StartedAt: 2025-09-30 15:28:04 -0400 (Tue, 30 Sep 2025) EndedAt: 2025-09-30 15:28:09 -0400 (Tue, 30 Sep 2025) EllapsedTime: 5.2 seconds RetCode: 0 Status: OK