Package: IMMAN Version: 1.29.0 Command: /Library/Frameworks/R.framework/Resources/bin/R CMD build --keep-empty-dirs --no-resave-data IMMAN StartedAt: 2025-09-30 16:45:23 -0400 (Tue, 30 Sep 2025) EndedAt: 2025-09-30 16:47:19 -0400 (Tue, 30 Sep 2025) EllapsedTime: 116.2 seconds RetCode: 0 Status: OK PackageFile: IMMAN_1.29.0.tar.gz PackageFileSize: 45.02 KiB