Package: IMMAN Version: 1.29.0 Command: rm -rf IMMAN.buildbin-libdir && mkdir IMMAN.buildbin-libdir && /Users/biocbuild/BBS/utils/build-universal.sh IMMAN_1.29.0.tar.gz /Library/Frameworks/R.framework/Resources/bin/R IMMAN.buildbin-libdir StartedAt: 2025-09-30 22:43:25 -0400 (Tue, 30 Sep 2025) EndedAt: 2025-09-30 22:43:31 -0400 (Tue, 30 Sep 2025) EllapsedTime: 6.2 seconds RetCode: 0 Status: OK PackageFile: IMMAN_1.29.0.tgz PackageFileSize: 79.28 KiB