Package: IMAS Version: 1.35.0 Command: /home/biocbuild/bbs-3.23-bioc/R/bin/R CMD INSTALL IMAS StartedAt: 2025-11-04 15:43:04 -0500 (Tue, 04 Nov 2025) EndedAt: 2025-11-04 15:43:46 -0500 (Tue, 04 Nov 2025) EllapsedTime: 41.2 seconds RetCode: 0 Status: OK