Package: IMAS Version: 1.35.0 Command: /home/biocbuild/bbs-3.23-bioc/R/bin/R CMD build --keep-empty-dirs --no-resave-data IMAS StartedAt: 2025-11-04 18:05:50 -0500 (Tue, 04 Nov 2025) EndedAt: 2025-11-04 18:07:33 -0500 (Tue, 04 Nov 2025) EllapsedTime: 103.1 seconds RetCode: 1 Status: ERROR PackageFile: None PackageFileSize: NA