Package: IMAS Version: 1.33.1 Command: /Library/Frameworks/R.framework/Resources/bin/R CMD INSTALL IMAS StartedAt: 2025-10-03 15:39:19 -0400 (Fri, 03 Oct 2025) EndedAt: 2025-10-03 15:40:15 -0400 (Fri, 03 Oct 2025) EllapsedTime: 55.5 seconds RetCode: 0 Status: OK