Package: IMAS Version: 1.33.1 Command: /Library/Frameworks/R.framework/Resources/bin/R CMD build --keep-empty-dirs --no-resave-data IMAS StartedAt: 2025-10-03 17:27:28 -0400 (Fri, 03 Oct 2025) EndedAt: 2025-10-03 17:30:06 -0400 (Fri, 03 Oct 2025) EllapsedTime: 157.7 seconds RetCode: 1 Status: ERROR PackageFile: None PackageFileSize: NA