Package: IMAS Version: 1.33.1 Command: rm -rf IMAS.buildbin-libdir && mkdir IMAS.buildbin-libdir && /Users/biocbuild/BBS/utils/build-universal.sh IMAS_1.33.1.tar.gz /Library/Frameworks/R.framework/Resources/bin/R IMAS.buildbin-libdir StartedAt: 2025-09-11 02:15:27 -0400 (Thu, 11 Sep 2025) EndedAt: 2025-09-11 02:16:26 -0400 (Thu, 11 Sep 2025) EllapsedTime: 59.1 seconds RetCode: 0 Status: OK PackageFile: IMAS_1.33.1.tgz PackageFileSize: 754.4 KiB