Package: IMAS Version: 1.33.1 Command: rm -rf IMAS.buildbin-libdir && mkdir IMAS.buildbin-libdir && /Users/biocbuild/BBS/utils/build-universal.sh IMAS_1.33.1.tar.gz /Library/Frameworks/R.framework/Resources/bin/R IMAS.buildbin-libdir StartedAt: 2025-09-10 23:41:17 -0400 (Wed, 10 Sep 2025) EndedAt: 2025-09-10 23:41:34 -0400 (Wed, 10 Sep 2025) EllapsedTime: 17.4 seconds RetCode: 0 Status: OK PackageFile: IMAS_1.33.1.tgz PackageFileSize: 755.7 KiB