Package: ILoReg Version: 1.21.0 Command: /home/biocbuild/bbs-3.23-bioc/R/bin/R CMD INSTALL ILoReg StartedAt: 2025-11-20 15:20:57 -0500 (Thu, 20 Nov 2025) EndedAt: 2025-11-20 15:21:29 -0500 (Thu, 20 Nov 2025) EllapsedTime: 31.8 seconds RetCode: 0 Status: OK