Package: ILoReg Version: 1.21.0 Command: /home/biocbuild/bbs-3.23-bioc/R/bin/R CMD build --keep-empty-dirs --no-resave-data ILoReg StartedAt: 2025-11-21 18:10:17 -0500 (Fri, 21 Nov 2025) EndedAt: 2025-11-21 18:12:42 -0500 (Fri, 21 Nov 2025) EllapsedTime: 144.1 seconds RetCode: 0 Status: OK PackageFile: ILoReg_1.21.0.tar.gz PackageFileSize: 2.666 MiB