Package: ILoReg Version: 1.21.0 Command: /Library/Frameworks/R.framework/Resources/bin/R CMD INSTALL ILoReg StartedAt: 2025-11-21 15:27:37 -0500 (Fri, 21 Nov 2025) EndedAt: 2025-11-21 15:28:18 -0500 (Fri, 21 Nov 2025) EllapsedTime: 41.8 seconds RetCode: 0 Status: OK