Package: ILoReg Version: 1.21.0 Command: /Library/Frameworks/R.framework/Resources/bin/R CMD build --keep-empty-dirs --no-resave-data ILoReg StartedAt: 2025-11-21 17:23:23 -0500 (Fri, 21 Nov 2025) EndedAt: 2025-11-21 17:26:51 -0500 (Fri, 21 Nov 2025) EllapsedTime: 208.4 seconds RetCode: 0 Status: OK PackageFile: ILoReg_1.21.0.tar.gz PackageFileSize: 2.745 MiB