Package: ILoReg Version: 1.21.0 Command: rm -rf ILoReg.buildbin-libdir && mkdir ILoReg.buildbin-libdir && /Users/biocbuild/BBS/utils/build-universal.sh ILoReg_1.21.0.tar.gz /Library/Frameworks/R.framework/Resources/bin/R ILoReg.buildbin-libdir StartedAt: 2025-11-22 01:39:23 -0500 (Sat, 22 Nov 2025) EndedAt: 2025-11-22 01:40:09 -0500 (Sat, 22 Nov 2025) EllapsedTime: 46.4 seconds RetCode: 0 Status: OK PackageFile: ILoReg_1.21.0.tgz PackageFileSize: 3.111 MiB