Package: ILoReg Version: 1.20.0 Command: /Library/Frameworks/R.framework/Resources/bin/R CMD INSTALL ILoReg StartedAt: 2025-10-29 21:35:50 -0400 (Wed, 29 Oct 2025) EndedAt: 2025-10-29 21:36:02 -0400 (Wed, 29 Oct 2025) EllapsedTime: 12.4 seconds RetCode: 0 Status: OK