Package: ILoReg Version: 1.20.0 Command: /Library/Frameworks/R.framework/Resources/bin/R CMD build --keep-empty-dirs --no-resave-data ILoReg StartedAt: 2025-10-29 23:07:19 -0400 (Wed, 29 Oct 2025) EndedAt: 2025-10-29 23:08:16 -0400 (Wed, 29 Oct 2025) EllapsedTime: 56.6 seconds RetCode: 0 Status: OK PackageFile: ILoReg_1.20.0.tar.gz PackageFileSize: 2.753 MiB