Package: ILoReg Version: 1.20.0 Command: rm -rf ILoReg.buildbin-libdir && mkdir ILoReg.buildbin-libdir && /Users/biocbuild/BBS/utils/build-universal.sh ILoReg_1.20.0.tar.gz /Library/Frameworks/R.framework/Resources/bin/R ILoReg.buildbin-libdir StartedAt: 2025-10-30 05:28:12 -0400 (Thu, 30 Oct 2025) EndedAt: 2025-10-30 05:28:25 -0400 (Thu, 30 Oct 2025) EllapsedTime: 13.3 seconds RetCode: 0 Status: OK PackageFile: ILoReg_1.20.0.tgz PackageFileSize: 3.122 MiB