Package: IHW Version: 1.39.0 Command: /home/biocbuild/bbs-3.23-bioc/R/bin/R CMD INSTALL IHW StartedAt: 2025-11-02 15:18:11 -0500 (Sun, 02 Nov 2025) EndedAt: 2025-11-02 15:18:14 -0500 (Sun, 02 Nov 2025) EllapsedTime: 3.4 seconds RetCode: 0 Status: OK