Package: IHW Version: 1.37.0 Command: /Library/Frameworks/R.framework/Resources/bin/R CMD build --keep-empty-dirs --no-resave-data IHW StartedAt: 2025-09-30 17:23:57 -0400 (Tue, 30 Sep 2025) EndedAt: 2025-09-30 17:27:29 -0400 (Tue, 30 Sep 2025) EllapsedTime: 212.0 seconds RetCode: 0 Status: OK PackageFile: IHW_1.37.0.tar.gz PackageFileSize: 4.733 MiB